BEGIN:VCALENDAR
VERSION:2.0
PRODID:-//Viking Shop - ECPv6.8.1//NONSGML v1.0//EN
CALSCALE:GREGORIAN
METHOD:PUBLISH
X-ORIGINAL-URL:http://shop.waltonviking.uk
X-WR-CALDESC:Events for Viking Shop
REFRESH-INTERVAL;VALUE=DURATION:PT1H
X-Robots-Tag:noindex
X-PUBLISHED-TTL:PT1H
BEGIN:VTIMEZONE
TZID:Europe/London
BEGIN:DAYLIGHT
TZOFFSETFROM:+0000
TZOFFSETTO:+0100
TZNAME:BST
DTSTART:20240331T010000
END:DAYLIGHT
BEGIN:STANDARD
TZOFFSETFROM:+0100
TZOFFSETTO:+0000
TZNAME:GMT
DTSTART:20241027T010000
END:STANDARD
END:VTIMEZONE
BEGIN:VEVENT
DTSTART;VALUE=DATE:20240614
DTEND;VALUE=DATE:20240617
DTSTAMP:20260420T030749
CREATED:20240530T081402Z
LAST-MODIFIED:20240530T112208Z
UID:1756-1718323200-1718582399@shop.waltonviking.uk
SUMMARY:Family Camp 2024
DESCRIPTION:
URL:http://shop.waltonviking.uk/event/family-camp-2024/
LOCATION:Paxmead Riverside Base\, TW17 9NT
CATEGORIES:Group Events
ATTACH;FMTTYPE=image/jpeg:http://shop.waltonviking.uk/wp-content/uploads/sites/4/2022/02/cropped-Cubs2.jpg
ORGANIZER;CN="Giles Haggerty":MAILTO:giles@waltonviking.org.uk
END:VEVENT
END:VCALENDAR